BEGIN:VCALENDAR
METHOD:PUBLISH
VERSION:2.0
PRODID:-//hacksw/handcal//NONSGML v1.0//EN
X-WR-TIMEZONE:Australia/Canberra
CALSCALE:GREGORIAN
BEGIN:VEVENT
DTSTART;TZID=Australia/Canberra:20260611T193000
DTEND;TZID=Australia/Canberra:20260611T213000
UID:123930548636986B73998C5E89443153506986B73998C7324257756717704364
DTSTAMP:20260424T004542
LOCATION:St Peter\'s Anglican Church Hall, Weston
DESCRIPTION:Club Monthly General Meeting Format is a guest speaker / prese
 ntation followed by a short meeting finishing with supper and a chat wit
 h other members. All members are most welcome and encouraged to attend.
URL;VALUE=URI:http://mgcccanberra.org.au/events/view.php?id=12393054863698
 6B73998C5E89443153506986B73998C7324257756717704364
SUMMARY:Club Meeting
END:VEVENT
END:VCALENDAR
